BEGIN:VCALENDAR
VERSION:2.0
PRODID:-//GBC Slovenia - ECPv6.15.20//NONSGML v1.0//EN
CALSCALE:GREGORIAN
METHOD:PUBLISH
X-WR-CALNAME:GBC Slovenia
X-ORIGINAL-URL:https://gbc-slovenia.si
X-WR-CALDESC:Dogodki za GBC Slovenia
REFRESH-INTERVAL;VALUE=DURATION:PT1H
X-Robots-Tag:noindex
X-PUBLISHED-TTL:PT1H
BEGIN:VTIMEZONE
TZID:UTC
BEGIN:STANDARD
TZOFFSETFROM:+0000
TZOFFSETTO:+0000
TZNAME:UTC
DTSTART:20250101T000000
END:STANDARD
END:VTIMEZONE
BEGIN:VEVENT
DTSTART;TZID=UTC:20260423T123000
DTEND;TZID=UTC:20260423T153000
DTSTAMP:20260423T083757
CREATED:20260421T131643Z
LAST-MODIFIED:20260421T131800Z
UID:16089-1776947400-1776958200@gbc-slovenia.si
SUMMARY:Predavanje FIDIC (gradbene pogodbe)
DESCRIPTION:Vljudno vas vabimo\, da se nam pridružite na predavanju FIDIC (gradbene pogodbe)\, v organizaciji podjetja RACE KOGO d.o.o. \n\n\n\nDogodek bo potekal v četrtek\, 23. 4. 2026\, od 12.30 do 15.30 ure\, na lokaciji Sejna soba 9A\, 1. nadstropje\, MPIK Slovenj Gradec\, Ozare 19\, 2380 Slovenj Gradec. \n\n\n\n\nOdprite vabilo.\nPrijava na dogodek\n\n\n\n\nOkviren program\n\n\n\n\nIzkušnje pri gradnji o FIDIC pogodbah na Koroškem (Dom za starejše – Mežica\, Dom starejših KO-RA\, Vrtec Ravne na Koroškem\, prizidek KDS – Črneče\, Šolski center Slovenj Gradec in Muta…).\n\n\n\nOsnove FIDIC in razlika glede na gradbene uzance.\n\n\n\nRdeča in rumena knjiga.\n\n\n\nZakonodaja.\n\n\n\nSestavni deli\, priprava dokumentacije.\n\n\n\nObvladovanje tveganj\, zavarovanja\, reševanje sporov.\n\n\n  \n\nPredavatelj bo mag. Primož Praper. \n\n\n\nKotizacija za podjetja na udeleženca je 100\,00 EUR + DDV (skupaj 122\,00 EUR). Brezplačno za študente in zaposlene v javni upravi. (podatke za plačilo prejmete po izpolnjeni prijavi). Zaradi omejenega številka je potrebna prijava preko spletnega obrazca: https://forms.gle/aJZNP15Lhq7txx1B7 \n\n\n\n\n\nZa več informacij smo vam dosegljivi na info@racekogo.com. \n\n\n\nVeselimo se skupnega druženja! \n\n\n\nEkipa RACE KOGO
URL:https://gbc-slovenia.si/dogodki-in-izobrazevanja/predavanje-fidic-gradbene-pogodbe
LOCATION:MPIK Slovenj Hradec\, Ozare 19\, Slovenj Gradec\, 2380\, Slovenia
ATTACH;FMTTYPE=image/jpeg:https://gbc-slovenia.si/wp-content/uploads/2026/04/GBC_Slovenia_Prispevki_vabilo_fidic.jpg
END:VEVENT
BEGIN:VEVENT
DTSTART;TZID=UTC:20260430T140000
DTEND;TZID=UTC:20260430T153000
DTSTAMP:20260423T083757
CREATED:20260421T132507Z
LAST-MODIFIED:20260421T132507Z
UID:16095-1777557600-1777563000@gbc-slovenia.si
SUMMARY:WEBINAR - Interreg Europe ABC project
DESCRIPTION:The second webinar of the Interreg Europe ABC project\, discussing practices\, including policies\, pilot projects\, initiatives\, research results and applications) related to soil improvement\, soil regeneration\, and the use of soil for carbon removal and bio-based construction materials. \nAn agenda will follow.
URL:https://gbc-slovenia.si/dogodki-in-izobrazevanja/webinar-interreg-europe-abc-project
LOCATION:Online
ATTACH;FMTTYPE=image/jpeg:https://gbc-slovenia.si/wp-content/uploads/2026/04/GBC_Slovenia_Dogodki_ABC_Webinar.jpg
END:VEVENT
BEGIN:VEVENT
DTSTART;VALUE=DATE:20260621
DTEND;VALUE=DATE:20260625
DTSTAMP:20260423T083757
CREATED:20251202T134441Z
LAST-MODIFIED:20251202T134441Z
UID:16017-1782000000-1782345599@gbc-slovenia.si
SUMMARY:WorldGBC Leadership Summit 2026
DESCRIPTION:Held every two years\, the Summit brings together our international Green Building Council (GBC) network for a week of collaboration\, knowledge-sharing and celebration of global leadership. This year\, for the first time\, we will also run GBC training days on key topics including taxonomy. \nFollowing a successful 2024 edition with participants from 50+ nations\, the 2026 Summit will spotlight the actions\, policies\, finance and partnerships that are transforming our sector. \nAs part of the Summit\, we will also host the Global Solutions Forum on 22 June 2026\, delivered in partnership with UKGBC. The Forum will be open to the public\, and is one of the flagship events taking place during London Climate Action Week. Through global keynote speakers\, panel debates\, networking opportunities and diverse regional representation\, the Forum will highlight progress across our network — and explore how we can align\, partner and scale solutions with greater speed and impact. \nThe full programme and registration details will be shared over the coming weeks. \n 
URL:https://gbc-slovenia.si/dogodki-in-izobrazevanja/worldgbc-leadership-summit-2026
ATTACH;FMTTYPE=image/jpeg:https://gbc-slovenia.si/wp-content/uploads/2025/12/GBC-Slovenia-Dogodki-WorldGBC-Leadership-Summit-26-naslovna.jpg
END:VEVENT
END:VCALENDAR